BEGIN:VCALENDAR
VERSION:2.0
PRODID:-//Foxfield Railway - ECPv6.15.20//NONSGML v1.0//EN
CALSCALE:GREGORIAN
METHOD:PUBLISH
X-WR-CALNAME:Foxfield Railway
X-ORIGINAL-URL:https://foxfieldrailway.co.uk
X-WR-CALDESC:Events for Foxfield Railway
REFRESH-INTERVAL;VALUE=DURATION:PT1H
X-Robots-Tag:noindex
X-PUBLISHED-TTL:PT1H
BEGIN:VTIMEZONE
TZID:Europe/London
BEGIN:DAYLIGHT
TZOFFSETFROM:+0000
TZOFFSETTO:+0100
TZNAME:BST
DTSTART:20240331T010000
END:DAYLIGHT
BEGIN:STANDARD
TZOFFSETFROM:+0100
TZOFFSETTO:+0000
TZNAME:GMT
DTSTART:20241027T010000
END:STANDARD
BEGIN:DAYLIGHT
TZOFFSETFROM:+0000
TZOFFSETTO:+0100
TZNAME:BST
DTSTART:20250330T010000
END:DAYLIGHT
BEGIN:STANDARD
TZOFFSETFROM:+0100
TZOFFSETTO:+0000
TZNAME:GMT
DTSTART:20251026T010000
END:STANDARD
BEGIN:DAYLIGHT
TZOFFSETFROM:+0000
TZOFFSETTO:+0100
TZNAME:BST
DTSTART:20260329T010000
END:DAYLIGHT
BEGIN:STANDARD
TZOFFSETFROM:+0100
TZOFFSETTO:+0000
TZNAME:GMT
DTSTART:20261025T010000
END:STANDARD
END:VTIMEZONE
BEGIN:VEVENT
DTSTART;VALUE=DATE:20250629
DTEND;VALUE=DATE:20250701
DTSTAMP:20260424T014928
CREATED:20230322T143823Z
LAST-MODIFIED:20250628T072335Z
UID:2463-1751166000-1751252399@foxfieldrailway.co.uk
SUMMARY:Eastern European Car Rally
DESCRIPTION:Join us as we celebrate the vehicles of Eastern Europe.  \nCaverswall Road Station will be filled with a mix of vintage Eastern European vehicles including Ladas\, Trabant’s and Wartburgs. \nPLUS our usual steam train travel\, buffet and bar all in action. Entry £2 per person on the gate (train rides extra). \nTrains run at 11.00\, 12.30\, 14.00 & 15.30 \nBook Today
URL:https://foxfieldrailway.co.uk/event/standard-steam-travel-21/
LOCATION:Foxfield Railway
CATEGORIES:Standard Steam Travel
ATTACH;FMTTYPE=image/jpeg:https://foxfieldrailway.co.uk/wp-content/uploads/2023/03/Eastern-European.jpg
END:VEVENT
END:VCALENDAR