BEGIN:VCALENDAR
VERSION:2.0
PRODID:-//Foxfield Railway - ECPv6.15.20//NONSGML v1.0//EN
CALSCALE:GREGORIAN
METHOD:PUBLISH
X-WR-CALNAME:Foxfield Railway
X-ORIGINAL-URL:https://foxfieldrailway.co.uk
X-WR-CALDESC:Events for Foxfield Railway
REFRESH-INTERVAL;VALUE=DURATION:PT1H
X-Robots-Tag:noindex
X-PUBLISHED-TTL:PT1H
BEGIN:VTIMEZONE
TZID:Europe/London
BEGIN:DAYLIGHT
TZOFFSETFROM:+0000
TZOFFSETTO:+0100
TZNAME:BST
DTSTART:20240331T010000
END:DAYLIGHT
BEGIN:STANDARD
TZOFFSETFROM:+0100
TZOFFSETTO:+0000
TZNAME:GMT
DTSTART:20241027T010000
END:STANDARD
BEGIN:DAYLIGHT
TZOFFSETFROM:+0000
TZOFFSETTO:+0100
TZNAME:BST
DTSTART:20250330T010000
END:DAYLIGHT
BEGIN:STANDARD
TZOFFSETFROM:+0100
TZOFFSETTO:+0000
TZNAME:GMT
DTSTART:20251026T010000
END:STANDARD
BEGIN:DAYLIGHT
TZOFFSETFROM:+0000
TZOFFSETTO:+0100
TZNAME:BST
DTSTART:20260329T010000
END:DAYLIGHT
BEGIN:STANDARD
TZOFFSETFROM:+0100
TZOFFSETTO:+0000
TZNAME:GMT
DTSTART:20261025T010000
END:STANDARD
END:VTIMEZONE
BEGIN:VEVENT
DTSTART;VALUE=DATE:20250511
DTEND;VALUE=DATE:20250513
DTSTAMP:20260419T213642
CREATED:20230518T202053Z
LAST-MODIFIED:20250306T232434Z
UID:2649-1746932400-1747018799@foxfieldrailway.co.uk
SUMMARY:Standard Steam Service
DESCRIPTION:Enjoy an award winning\, traditional steam train ride through Staffordshire countryside.\nWhat could be more relaxing than a steam train ride through the Staffordshire countryside from the comfort of your own compartment? This 50 minute\, return ride from Caverswall Road Station is steeped in history and full of fun. \nTrains run at 11am\, 12.30pm\, 2pm & 3.30pm \nBook Today
URL:https://foxfieldrailway.co.uk/event/standara-steam-service/
LOCATION:Foxfield Railway
CATEGORIES:Standard Steam Travel
ATTACH;FMTTYPE=image/jpeg:https://foxfieldrailway.co.uk/wp-content/uploads/2023/03/Standard-Service.jpg
END:VEVENT
BEGIN:VEVENT
DTSTART;VALUE=DATE:20250505
DTEND;VALUE=DATE:20250507
DTSTAMP:20260419T213642
CREATED:20230322T145852Z
LAST-MODIFIED:20250428T202649Z
UID:2489-1746414000-1746500399@foxfieldrailway.co.uk
SUMMARY:VE Day Celebration - Steam Train Service - Kids Go Free!
DESCRIPTION:In partnership with Forsbook Parish Council\, we’re celebrating the 80th Anniversary of VE day in style.\nCommemorate Victory in Europe whilst creating unforgettable family memories riding our vintage steam trains.\nKids Go Free*\nStalls\, Inflatables and Facepainting\nRefreshments\, Bar and Live Music\n* Up to 2 free children’s tickets per fare paying adult\nTrains run at 11.00\, 12.30\, 14.00 & 15.30.\nBook Today
URL:https://foxfieldrailway.co.uk/event/standard-steam-travel-12/
CATEGORIES:Standard Steam Travel
ATTACH;FMTTYPE=image/jpeg:https://foxfieldrailway.co.uk/wp-content/uploads/2023/03/Kids-Go-Free.jpg
END:VEVENT
BEGIN:VEVENT
DTSTART;VALUE=DATE:20250504
DTEND;VALUE=DATE:20250506
DTSTAMP:20260419T213642
CREATED:20230322T205757Z
LAST-MODIFIED:20250428T202616Z
UID:2501-1746327600-1746413999@foxfieldrailway.co.uk
SUMMARY:VE Day Celebration - Steam Train Service - Kids Go Free!
DESCRIPTION:In partnership with Forsbook Parish Council\, we’re celebrating the 80th Anniversary of VE day in style.\nCommemorate Victory in Europe whilst creating unforgettable family memories riding our vintage steam trains.\nKids Go Free*\nStalls\, Inflatables and Facepainting\nRefreshments\, Bar and Live Music\n* Up to 2 free children’s tickets per fare paying adult\nTrains run at 11.00\, 12.30\, 14.00 & 15.30.\nBook Today
URL:https://foxfieldrailway.co.uk/event/standard-steam-travel-3/
CATEGORIES:Standard Steam Travel
ATTACH;FMTTYPE=image/jpeg:https://foxfieldrailway.co.uk/wp-content/uploads/2023/03/Kids-Go-Free.jpg
END:VEVENT
BEGIN:VEVENT
DTSTART;VALUE=DATE:20250504
DTEND;VALUE=DATE:20250506
DTSTAMP:20260419T213642
CREATED:20230331T071153Z
LAST-MODIFIED:20250306T233339Z
UID:2513-1746327600-1746413999@foxfieldrailway.co.uk
SUMMARY:Afternoon Tea Train
DESCRIPTION:Afternoon Tea Trains are a real favourite for treats & celebrations.\nImagine enjoying a delicious home made afternoon tea while watching beautiful Staffordshire countryside roll by. \nThis service is just on the 2pm train. \nBook Today
URL:https://foxfieldrailway.co.uk/event/afternoon-tea-train-8/
CATEGORIES:Afternoon Cream Tea Train
ATTACH;FMTTYPE=image/jpeg:https://foxfieldrailway.co.uk/wp-content/uploads/2023/03/Afternoon-Tea.jpg
END:VEVENT
BEGIN:VEVENT
DTSTART;VALUE=DATE:20250427
DTEND;VALUE=DATE:20250429
DTSTAMP:20260419T213642
CREATED:20240210T143156Z
LAST-MODIFIED:20250306T232727Z
UID:3046-1745722800-1745809199@foxfieldrailway.co.uk
SUMMARY:Standard Steam Service
DESCRIPTION:Enjoy an award winning\, traditional steam train ride through Staffordshire countryside.\nWhat could be more relaxing than a steam train ride through the Staffordshire countryside from the comfort of your own compartment? This 50 minute\, return ride from Caverswall Road Station is steeped in history and full of fun. \nTrains run at 11am\, 12.30pm\, 2pm & 3.30pm \nBook Today
URL:https://foxfieldrailway.co.uk/event/standard-steam-travel-26/
CATEGORIES:Standard Steam Travel
ATTACH;FMTTYPE=image/jpeg:https://foxfieldrailway.co.uk/wp-content/uploads/2023/03/Standard-Service.jpg
END:VEVENT
BEGIN:VEVENT
DTSTART;VALUE=DATE:20250421
DTEND;VALUE=DATE:20250423
DTSTAMP:20260419T213642
CREATED:20250416T110754Z
LAST-MODIFIED:20250416T110754Z
UID:3767-1745204400-1745290799@foxfieldrailway.co.uk
SUMMARY:Standard Steam Service
DESCRIPTION:Enjoy an award winning\, traditional steam train ride through Staffordshire countryside.\nWhat could be more relaxing than a steam train ride through the Staffordshire countryside from the comfort of your own compartment? This 50 minute\, return ride from Caverswall Road Station is steeped in history and full of fun. \nTrains run at 11.00\, 12.30\, 14.00 & 15.30 \nBook Today
URL:https://foxfieldrailway.co.uk/event/standard-steam-service-11/
CATEGORIES:Standard Steam Travel
ATTACH;FMTTYPE=image/jpeg:https://foxfieldrailway.co.uk/wp-content/uploads/2023/03/Standard-Service.jpg
END:VEVENT
BEGIN:VEVENT
DTSTART;VALUE=DATE:20250420
DTEND;VALUE=DATE:20250422
DTSTAMP:20260419T213642
CREATED:20250416T110706Z
LAST-MODIFIED:20250416T110836Z
UID:3765-1745118000-1745204399@foxfieldrailway.co.uk
SUMMARY:Standard Steam Service
DESCRIPTION:Enjoy an award winning\, traditional steam train ride through Staffordshire countryside.\nWhat could be more relaxing than a steam train ride through the Staffordshire countryside from the comfort of your own compartment? This 50 minute\, return ride from Caverswall Road Station is steeped in history and full of fun. \nTrains run at 11.00\, 12.30\, 14.00 & 15.30 \nBook Today
URL:https://foxfieldrailway.co.uk/event/standard-steam-service-10/
CATEGORIES:Standard Steam Travel
ATTACH;FMTTYPE=image/jpeg:https://foxfieldrailway.co.uk/wp-content/uploads/2023/03/Standard-Service.jpg
END:VEVENT
BEGIN:VEVENT
DTSTART;VALUE=DATE:20250419
DTEND;VALUE=DATE:20250421
DTSTAMP:20260419T213642
CREATED:20250416T110623Z
LAST-MODIFIED:20250416T110623Z
UID:3763-1745031600-1745117999@foxfieldrailway.co.uk
SUMMARY:Standard Steam Service
DESCRIPTION:Enjoy an award winning\, traditional steam train ride through Staffordshire countryside.\nWhat could be more relaxing than a steam train ride through the Staffordshire countryside from the comfort of your own compartment? This 50 minute\, return ride from Caverswall Road Station is steeped in history and full of fun. \nTrains run at 11.00\, 12.30\, & 14.00 \nBook Today
URL:https://foxfieldrailway.co.uk/event/standard-steam-service-9/
CATEGORIES:Standard Steam Travel
ATTACH;FMTTYPE=image/jpeg:https://foxfieldrailway.co.uk/wp-content/uploads/2023/03/Standard-Service.jpg
END:VEVENT
END:VCALENDAR