BEGIN:VCALENDAR
VERSION:2.0
PRODID:-//Foxfield Railway - ECPv6.15.20//NONSGML v1.0//EN
CALSCALE:GREGORIAN
METHOD:PUBLISH
X-ORIGINAL-URL:https://foxfieldrailway.co.uk
X-WR-CALDESC:Events for Foxfield Railway
REFRESH-INTERVAL;VALUE=DURATION:PT1H
X-Robots-Tag:noindex
X-PUBLISHED-TTL:PT1H
BEGIN:VTIMEZONE
TZID:Europe/London
BEGIN:DAYLIGHT
TZOFFSETFROM:+0000
TZOFFSETTO:+0100
TZNAME:BST
DTSTART:20250330T010000
END:DAYLIGHT
BEGIN:STANDARD
TZOFFSETFROM:+0100
TZOFFSETTO:+0000
TZNAME:GMT
DTSTART:20251026T010000
END:STANDARD
BEGIN:DAYLIGHT
TZOFFSETFROM:+0000
TZOFFSETTO:+0100
TZNAME:BST
DTSTART:20260329T010000
END:DAYLIGHT
BEGIN:STANDARD
TZOFFSETFROM:+0100
TZOFFSETTO:+0000
TZNAME:GMT
DTSTART:20261025T010000
END:STANDARD
BEGIN:DAYLIGHT
TZOFFSETFROM:+0000
TZOFFSETTO:+0100
TZNAME:BST
DTSTART:20270328T010000
END:DAYLIGHT
BEGIN:STANDARD
TZOFFSETFROM:+0100
TZOFFSETTO:+0000
TZNAME:GMT
DTSTART:20271031T010000
END:STANDARD
END:VTIMEZONE
BEGIN:VEVENT
DTSTART;VALUE=DATE:20260524
DTEND;VALUE=DATE:20260526
DTSTAMP:20260419T213708
CREATED:20230322T145058Z
LAST-MODIFIED:20260307T235911Z
UID:2477-1779591600-1779677999@foxfieldrailway.co.uk
SUMMARY:Standard Steam Service
DESCRIPTION:Enjoy an award winning\, traditional steam train ride through Staffordshire countryside.\nWhat could be more relaxing than a steam train ride through the Staffordshire countryside from the comfort of your own compartment? This 50 minute\, return ride from Caverswall Road Station is steeped in history and full of fun. \nTrains run at 10.45\, 12.15 &14.30 \nBook Today
URL:https://foxfieldrailway.co.uk/event/standard-steam-travel-15/
CATEGORIES:Standard Steam Travel
ATTACH;FMTTYPE=image/jpeg:https://foxfieldrailway.co.uk/wp-content/uploads/2023/03/Standard-Service.jpg
END:VEVENT
BEGIN:VEVENT
DTSTART;VALUE=DATE:20260530
DTEND;VALUE=DATE:20260601
DTSTAMP:20260419T213708
CREATED:20250520T200303Z
LAST-MODIFIED:20260222T232437Z
UID:3813-1780110000-1780196399@foxfieldrailway.co.uk
SUMMARY:Beer Festival\, Traction Engine Rally and Steam Trains
DESCRIPTION:Road meets rail\, with traction engines\, steam rollers and of course our steam hauled trains.\nSee steam engines of every sort at our Caverswall Road station\, and take a 50 minute ride through the Staffordshire countryside in a period carriage behind one of our steam railway engines. \nTry a pint (or three!) with up to twenty locally brewed beers on sale. \nLive music on the Saturday night. \nTrains run at 11.00\, 12.30\, 14.00\, 15.30 \nBook Today
URL:https://foxfieldrailway.co.uk/event/beer-festival-traction-engine-rally-and-steam-trains/
CATEGORIES:Special Event,Standard Steam Travel
ATTACH;FMTTYPE=image/jpeg:https://foxfieldrailway.co.uk/wp-content/uploads/2023/03/Traction-Engine.jpg
END:VEVENT
BEGIN:VEVENT
DTSTART;VALUE=DATE:20260531
DTEND;VALUE=DATE:20260602
DTSTAMP:20260419T213708
CREATED:20230322T144958Z
LAST-MODIFIED:20260222T232524Z
UID:2475-1780196400-1780282799@foxfieldrailway.co.uk
SUMMARY:Beer Festival\, Traction Engine Rally and Steam Trains
DESCRIPTION:Road meets rail\, with traction engines\, steam rollers and of course our steam hauled trains.\nSee steam engines of every sort at our Caverswall Road station\, and take a 50 minute ride through the Staffordshire countryside in a period carriage behind one of our steam railway engines. \nTry a pint (or three!) with up to twenty locally brewed beers on sale. \nLive music on the Saturday night. \nTrains run at 11.00\, 12.30\, 14.00 \nLate night beer expresses 17.30 and 19.00 Saturday night only \nBook Today
URL:https://foxfieldrailway.co.uk/event/standard-steam-travel-16/
CATEGORIES:Standard Steam Travel
ATTACH;FMTTYPE=image/jpeg:https://foxfieldrailway.co.uk/wp-content/uploads/2023/03/Traction-Engine.jpg
END:VEVENT
END:VCALENDAR